BEGIN:VCALENDAR
METHOD:PUBLISH
PRODID:-//Weblication CMS
VERSION:2.0
BEGIN:VEVENT
SUMMARY:Maibaumstellen FF Leibertingen Abt. Kreenheinstetten
DTSTART:20260425T000000
DTEND:20260425T000000
DESCRIPTION:
LOCATION:
UID:https://www.kfv-sigmaringen.de/de/veranstaltungen/termine/Maibaumstellen-FF-Leibertingen-Abt-Kreenheinstetten.php?uid=
URL:https://www.kfv-sigmaringen.de/de/veranstaltungen/termine/Maibaumstellen-FF-Leibertingen-Abt-Kreenheinstetten.php?splitId=12&from=2026-04-25 00:00:00&to=
END:VEVENT
BEGIN:VEVENT
SUMMARY:Oberschwäbische Rettungstage
DTSTART:20260508T000000
DTEND:20260509T235959
DESCRIPTION:
LOCATION:
UID:https://www.kfv-sigmaringen.de/de/veranstaltungen/termine/Oberschwaebische-Rettungstage-1.php?uid=d6604dd41a48796adc994428832a5c28
URL:https://www.kfv-sigmaringen.de/de/veranstaltungen/termine/Oberschwaebische-Rettungstage-1.php?splitId=5&from=2026-05-08 00:00:00&to=2026-05-09 23:59:59
END:VEVENT
BEGIN:VEVENT
SUMMARY:Jubiläum Notfallseelsorge
DTSTART:20260612T000000
DTEND:20260612T000000
DESCRIPTION:
LOCATION:
UID:https://www.kfv-sigmaringen.de/de/veranstaltungen/termine/Jubilaeum-Notfallseelsorge.php?uid=
URL:https://www.kfv-sigmaringen.de/de/veranstaltungen/termine/Jubilaeum-Notfallseelsorge.php?splitId=2&from=2026-06-12 00:00:00&to=
END:VEVENT
BEGIN:VEVENT
SUMMARY:Einweihung Gerätehaus + Fahrzeugweihe GW-T
DTSTART:20260614T000000
DTEND:20260614T000000
DESCRIPTION:Feuerwehr Leibertingen Abt. Altheim / Thalheim
LOCATION:
UID:https://www.kfv-sigmaringen.de/de/veranstaltungen/termine/Einweihung-Geraetehaus-Fahrzeugweihe-GW-T.php?uid=
URL:https://www.kfv-sigmaringen.de/de/veranstaltungen/termine/Einweihung-Geraetehaus-Fahrzeugweihe-GW-T.php?splitId=11&from=2026-06-14 00:00:00&to=
END:VEVENT
BEGIN:VEVENT
SUMMARY:bundesweiten Bevölkerungsschutztag 
DTSTART:20260627T000000
DTEND:20260627T000000
DESCRIPTION:
LOCATION:
UID:https://www.kfv-sigmaringen.de/de/veranstaltungen/termine/bundesweiten-Bevoelkerungsschutztag.php?uid=
URL:https://www.kfv-sigmaringen.de/de/veranstaltungen/termine/bundesweiten-Bevoelkerungsschutztag.php?splitId=7&from=2026-06-27 00:00:00&to=
END:VEVENT
BEGIN:VEVENT
SUMMARY:Feuerwehr- und Heimatfest 
DTSTART:20260704T000000
DTEND:20260706T235959
DESCRIPTION:in Gammertingen
LOCATION:
UID:https://www.kfv-sigmaringen.de/de/veranstaltungen/termine/Feuerwehr-und-Heimatfest.php?uid=6465eb8e9be805e45861c210209beadb
URL:https://www.kfv-sigmaringen.de/de/veranstaltungen/termine/Feuerwehr-und-Heimatfest.php?splitId=4&from=2026-07-04 00:00:00&to=2026-07-06 23:59:59
END:VEVENT
BEGIN:VEVENT
SUMMARY:Abnahme Leistungsabzeichen
DTSTART:20260704T000000
DTEND:20260704T000000
DESCRIPTION:in Gammertingen
LOCATION:
UID:https://www.kfv-sigmaringen.de/de/veranstaltungen/termine/Abnahme-Leistungsabzeichen.php?uid=
URL:https://www.kfv-sigmaringen.de/de/veranstaltungen/termine/Abnahme-Leistungsabzeichen.php?splitId=10&from=2026-07-04 00:00:00&to=
END:VEVENT
BEGIN:VEVENT
SUMMARY:Leistungsabzeichen 2026
DTSTART:20260705T000000
DTEND:20260705T000000
DESCRIPTION:
LOCATION:
UID:https://www.kfv-sigmaringen.de/de/veranstaltungen/termine/Leistungsabzeichen-2026.php?uid=
URL:https://www.kfv-sigmaringen.de/de/veranstaltungen/termine/Leistungsabzeichen-2026.php?splitId=0&from=2026-07-05 00:00:00&to=
END:VEVENT
BEGIN:VEVENT
SUMMARY:Gartenfest Sauldorf-Bietingen
DTSTART:20260705T000000
DTEND:20260706T235959
DESCRIPTION:
LOCATION:
UID:https://www.kfv-sigmaringen.de/de/veranstaltungen/termine/Gartenfest-Sauldorf-Bietingen.php?uid=f50e315753b807b8748703cb438a2d28
URL:https://www.kfv-sigmaringen.de/de/veranstaltungen/termine/Gartenfest-Sauldorf-Bietingen.php?splitId=9&from=2026-07-05 00:00:00&to=2026-07-06 23:59:59
END:VEVENT
BEGIN:VEVENT
SUMMARY:Seniorennachmittag
DTSTART:20260926T000000
DTEND:20260926T000000
DESCRIPTION:in Scheer
LOCATION:
UID:https://www.kfv-sigmaringen.de/de/veranstaltungen/termine/Seniorennachmittag.php?uid=
URL:https://www.kfv-sigmaringen.de/de/veranstaltungen/termine/Seniorennachmittag.php?splitId=6&from=2026-09-26 00:00:00&to=
END:VEVENT
BEGIN:VEVENT
SUMMARY:Hauptübung FF Veringenstadt
DTSTART:20261010T150000
DTEND:20261010T150000
DESCRIPTION:
LOCATION:
UID:https://www.kfv-sigmaringen.de/de/veranstaltungen/termine/Hauptuebung-FF-Veringenstadt.php?uid=
URL:https://www.kfv-sigmaringen.de/de/veranstaltungen/termine/Hauptuebung-FF-Veringenstadt.php?splitId=1&from=2026-10-10 15:00:00&to=
END:VEVENT
BEGIN:VEVENT
SUMMARY:Haupt- und Schlussprobe FW Leibertingen
DTSTART:20261024T000000
DTEND:20261024T000000
DESCRIPTION:
LOCATION:
UID:https://www.kfv-sigmaringen.de/de/veranstaltungen/termine/Haupt-und-Schlussprobe-FW-Leibertingen.php?uid=
URL:https://www.kfv-sigmaringen.de/de/veranstaltungen/termine/Haupt-und-Schlussprobe-FW-Leibertingen.php?splitId=8&from=2026-10-24 00:00:00&to=
END:VEVENT
BEGIN:VEVENT
SUMMARY:Fortbildung Kommandanten
DTSTART:20261113T000000
DTEND:20261115T235959
DESCRIPTION:
LOCATION:
UID:https://www.kfv-sigmaringen.de/de/veranstaltungen/termine/Fortbildung-Kommandanten.php?uid=f782b40bb0e2a69b2bdaad6c747e2e7b
URL:https://www.kfv-sigmaringen.de/de/veranstaltungen/termine/Fortbildung-Kommandanten.php?splitId=3&from=2026-11-13 00:00:00&to=2026-11-15 23:59:59
END:VEVENT
END:VCALENDAR